Back
From: metabase:user:a0e144f2-373b-11e6-8edd-c6848980b093
Subject: PASS REST-Cypher-0.0.4 v5.25.6 GNU/Linux
Date: 2016-10-17T21:52:43Z
This distribution has been tested as part of the CPAN Testers
project, supporting the Perl programming language. See
http://wiki.cpantesters.org/ for more information or email
questions to cpan-testers-discuss@perl.org
--
Dear Chisel,
This is a computer-generated report for REST-Cypher-0.0.4
on perl 5.25.6, created by CPAN-Reporter-1.2018.
Thank you for uploading your work to CPAN. Congratulations!
All tests were successful.
Sections of this report:
* Tester comments
* Program output
* Prerequisites
* Environment and other context
------------------------------
TESTER COMMENTS
------------------------------
Additional comments from tester:
this report is from an automated smoke testing program
and was not reviewed by a human for accuracy
------------------------------
PROGRAM OUTPUT
------------------------------
Output from '/usr/bin/make test':
PERL_DL_NONLAZY=1 "/home/cpan2/install/bin/perl" "-MExtUtils::Command::MM" "-MTest::Harness" "-e" "undef *Test::Harness::Switches; test_harness(0, 'blib/lib', 'blib/arch')" t/*.t
t/author-no-breakpoints.t .. skipped: these tests are for testing by the author
t/author-no-tabs.t ......... skipped: these tests are for testing by the author
t/release-kwalitee.t ....... skipped: these tests are for release candidate testing
t/release-pod-coverage.t ... skipped: these tests are for release candidate testing
t/release-pod-syntax.t ..... skipped: these tests are for release candidate testing
t/00-load.t ................ ok
t/00.agent.t ............... skipped: PERL_CYPHER_NEO4J_ADDRESS needs a value
caught error: bless({
error => {
as_string => "500 Can't connect to some.other.server:7474\nContent-Type: text/plain\nClient-Date: Thu, 13 Oct 2016 21:24:45 GMT\nClient-Warning: Internal response\n\nCan't connect to some.other.server:7474\n\nName or service not known at /home/cpan2/install/lib/perl5/site_perl/5.25.6/LWP/Protocol/http.pm line 47.\n",
code => 500,
message => "Can't connect to some.other.server:7474",
},
previous_exception => "Can't connect to some.other.server:7474\n\nName or service not known at /home/cpan2/install/lib/perl5/site_perl/5.25.6/LWP/Protocol/http.pm line 47.\n",
response => bless({
_content => "Can't connect to some.other.server:7474\n\nName or service not known at /home/cpan2/install/lib/perl5/site_perl/5.25.6/LWP/Protocol/http.pm line 47.\n",
_headers => bless({
"::std_case" => {
"client-date" => "Client-Date",
"client-warning" => "Client-Warning",
},
"client-date" => "Thu, 13 Oct 2016 21:24:45 GMT",
"client-warning" => "Internal response",
"content-type" => "text/plain",
}, "HTTP::Headers"),
_msg => "Can't connect to some.other.server:7474",
_rc => 500,
_request => bless({
_content => "{\"params\":null,\"query\":\"MATCH (n:Foo) RETURN count(n)\"}",
_headers => bless({
"authorization" => "Basic bmVvNGo6bmVvNGo=",
"content-length" => 55,
"content-type" => "application/json",
"user-agent" => "REST::Cypher::Agent/0.0.0",
}, "HTTP::Headers"),
_method => "POST",
_uri => bless(do{\(my $o = "http://some.other.server:7474/db/data/cypher")}, "URI::http"),
}, "HTTP::Request"),
}, "HTTP::Response"),
}, "REST::Cypher::Exception::Response") at t/00.cypher.t line 75.
t/00.cypher.t .............. ok
All tests successful.
Files=8, Tests=12, 1 wallclock secs ( 0.05 usr 0.01 sys + 2.24 cusr 0.09 csys = 2.39 CPU)
Result: PASS
------------------------------
PREREQUISITES
------------------------------
Prerequisite modules loaded:
requires:
Module Need Have
---------------------------- ---- --------
JSON::Any 0 1.39
LWP::UserAgent 0 6.15
Moo 0 2.001001
MooseX::Params::Validate 0 0.21
MooX::Types::MooseLike::Base 0 0.29
overload 0 1.27
strict 0 1.11
Throwable 0 0.200013
warnings 0 1.37
build_requires:
Module Need Have
---------------------------- ---- --------
Data::Dump 0 1.23
ExtUtils::MakeMaker 0 7.24
FindBin::libs 0 2.12
HTTP::Status 0 6.11
Pod::Coverage::TrustPod 0 0.100003
Test::Kwalitee 0 1.22
Test::Most 0 0.35
Test::NoTabs 0 1.4
Test::Pod 0 1.51
Test::Pod::Coverage 0 1.10
Test::UseAllModules 0 0.17
Try::Tiny 0 0.27
configure_requires:
Module Need Have
---------------------------- ---- --------
ExtUtils::MakeMaker 0 7.24
------------------------------
ENVIRONMENT AND OTHER CONTEXT
------------------------------
Environment variables:
AUTOMATED_TESTING = 1
HARNESS_OPTIONS = j5
LANG = en_US.UTF-8
PATH = /usr/local/bin:/usr/bin:/bin:/usr/local/games:/usr/games
PERL5LIB =
PERL5OPT =
PERL5_CPANPLUS_IS_RUNNING = 14075
PERL5_CPAN_IS_RUNNING = 14075
PERL5_CPAN_IS_RUNNING_IN_RECURSION = 4454,14075
PERLBREW_BASHRC_VERSION = 0.76
PERLBREW_HOME = /home/dcollins/.perlbrew
PERLBREW_ROOT = /home/dcollins/toolchain/perl5
PERL_CR_SMOKER_CURRENT = REST-Cypher-0.0.4
PERL_CR_SMOKER_RUNONCE = 1
PERL_EXTUTILS_AUTOINSTALL = --defaultdeps
PERL_MM_USE_DEFAULT = 1
SHELL = /bin/bash
TERM = putty
Perl special variables (and OS-specific diagnostics, for MSWin32):
$^X = /home/cpan2/install/bin/perl
$UID/$EUID = 1003 / 1003
$GID = 1003 1003
$EGID = 1003 1003
Perl module toolchain versions installed:
Module Have
------------------- --------
CPAN 2.14
CPAN::Meta 2.150010
Cwd 3.62
ExtUtils::CBuilder 0.280225
ExtUtils::Command 7.24
ExtUtils::Install 2.04
ExtUtils::MakeMaker 7.24
ExtUtils::Manifest 1.70
ExtUtils::ParseXS 3.33
File::Spec 3.62
JSON 2.90
JSON::PP 2.27400
Module::Build 0.4220
Module::Signature 0.81
Parse::CPAN::Meta 2.150010
Test::Harness 3.36
Test::More 1.302061
YAML 1.18
YAML::Syck 1.29
version 0.9917
--
Summary of my perl5 (revision 5 version 25 subversion 6) configuration:
Commit id: 11a12be6c2df2fcd9601f9fde8c7df8c7538c956
Platform:
osname=linux
osvers=3.16.0-4-amd64
archname=x86_64-linux-thread-multi
uname='linux digitalis 3.16.0-4-amd64 #1 smp debian 3.16.36-1+deb8u1 (2016-09-03) x86_64 gnulinux '
config_args='-Dusedevel -DDEBUGGING -Dusethreads -Dprefix=/home/cpan2/install -Uversiononly -des'
hint=recommended
useposix=true
d_sigaction=define
useithreads=define
usemultiplicity=define
use64bitint=define
use64bitall=define
uselongdouble=undef
usemymalloc=n
bincompat5005=undef
Compiler:
cc='cc'
ccflags ='-D_REENTRANT -D_GNU_SOURCE -fwrapv -DDEBUGGING -fno-strict-aliasing -pipe -fstack-protector-strong -I/usr/local/include -D_LARGEFILE_SOURCE -D_FILE_OFFSET_BITS=64 -D_FORTIFY_SOURCE=2'
optimize='-O2 -g'
cppflags='-D_REENTRANT -D_GNU_SOURCE -fwrapv -DDEBUGGING -fno-strict-aliasing -pipe -fstack-protector-strong -I/usr/local/include'
ccversion=''
gccversion='4.9.2'
gccosandvers=''
intsize=4
longsize=8
ptrsize=8
doublesize=8
byteorder=12345678
doublekind=3
d_longlong=define
longlongsize=8
d_longdbl=define
longdblsize=16
longdblkind=3
ivtype='long'
ivsize=8
nvtype='double'
nvsize=8
Off_t='off_t'
lseeksize=8
alignbytes=8
prototype=define
Linker and Libraries:
ld='cc'
ldflags =' -fstack-protector-strong -L/usr/local/lib'
libpth=/usr/local/lib /usr/lib/gcc/x86_64-linux-gnu/4.9/include-fixed /usr/include/x86_64-linux-gnu /usr/lib /lib/x86_64-linux-gnu /lib/../lib /usr/lib/x86_64-linux-gnu /usr/lib/../lib /lib
libs=-lpthread -lnsl -ldl -lm -lcrypt -lutil -lc
perllibs=-lpthread -lnsl -ldl -lm -lcrypt -lutil -lc
libc=libc-2.19.so
so=so
useshrplib=false
libperl=libperl.a
gnulibc_version='2.19'
Dynamic Linking:
dlsrc=dl_dlopen.xs
dlext=so
d_dlsymun=undef
ccdlflags='-Wl,-E'
cccdlflags='-fPIC'
lddlflags='-shared -O2 -g -L/usr/local/lib -fstack-protector-strong'
Characteristics of this binary (from libperl):
Compile-time options:
DEBUGGING
HAS_TIMES
MULTIPLICITY
PERLIO_LAYERS
PERL_COPY_ON_WRITE
PERL_DONT_CREATE_GVSV
PERL_HASH_FUNC_ONE_AT_A_TIME_HARD
PERL_IMPLICIT_CONTEXT
PERL_MALLOC_WRAP
PERL_OP_PARENT
PERL_PRESERVE_IVUV
PERL_TRACK_MEMPOOL
PERL_USE_DEVEL
USE_64_BIT_ALL
USE_64_BIT_INT
USE_ITHREADS
USE_LARGE_FILES
USE_LOCALE
USE_LOCALE_COLLATE
USE_LOCALE_CTYPE
USE_LOCALE_NUMERIC
USE_LOCALE_TIME
USE_PERLIO
USE_PERL_ATOF
USE_REENTRANT_API
Built under linux
Compiled at Oct 11 2016 16:20:18
%ENV:
PERL5LIB=""
PERL5OPT=""
PERL5_CPANPLUS_IS_RUNNING="14075"
PERL5_CPAN_IS_RUNNING="14075"
PERL5_CPAN_IS_RUNNING_IN_RECURSION="4454,14075"
PERLBREW_BASHRC_VERSION="0.76"
PERLBREW_HOME="/home/dcollins/.perlbrew"
PERLBREW_ROOT="/home/dcollins/toolchain/perl5"
PERL_CR_SMOKER_CURRENT="REST-Cypher-0.0.4"
PERL_CR_SMOKER_RUNONCE="1"
PERL_EXTUTILS_AUTOINSTALL="--defaultdeps"
PERL_MM_USE_DEFAULT="1"
@INC:
/home/cpan2/install/lib/perl5/site_perl/5.25.6/x86_64-linux-thread-multi
/home/cpan2/install/lib/perl5/site_perl/5.25.6
/home/cpan2/install/lib/perl5/5.25.6/x86_64-linux-thread-multi
/home/cpan2/install/lib/perl5/5.25.6
.